BEGIN:VCALENDAR
VERSION:2.0
PRODID:-//Imkerverein Littfetal - ECPv6.3.5//NONSGML v1.0//EN
CALSCALE:GREGORIAN
METHOD:PUBLISH
X-ORIGINAL-URL:http://www.imkerverein-littfetal.de
X-WR-CALDESC:Veranstaltungen für Imkerverein Littfetal
REFRESH-INTERVAL;VALUE=DURATION:PT1H
X-Robots-Tag:noindex
X-PUBLISHED-TTL:PT1H
BEGIN:VTIMEZONE
TZID:UTC
BEGIN:STANDARD
TZOFFSETFROM:+0000
TZOFFSETTO:+0000
TZNAME:UTC
DTSTART:20230101T000000
END:STANDARD
END:VTIMEZONE
BEGIN:VEVENT
DTSTART;TZID=UTC:20230521T100000
DTEND;TZID=UTC:20230521T100000
DTSTAMP:20260425T114412
CREATED:20230103T164347Z
LAST-MODIFIED:20230103T164347Z
UID:2721-1684663200-1684663200@www.imkerverein-littfetal.de
SUMMARY:Belegstelleneröffnung 2023
DESCRIPTION:Am 21.05.23 werden wir unseren Belegstellenbetrieb aufnehmen. Bis zum 06.08.22 besteht dann jeden Sonntag zwischen 10:00 Uhr und 12:30 Uhr die möglichkeit Begattungsvölker auf unserer Belegstelle aufzustellen. \n 
URL:http://www.imkerverein-littfetal.de/event/belegstelleneroeffnung-2023/
LOCATION:Belegstelle Hemmelhol Elbershagen\, 51.018406\,7.940482
ORGANIZER;CN="Imkerverein Littfetal":MAILTO:vorstand@imkerverein-littfetal.de
END:VEVENT
END:VCALENDAR